BEGIN:VCALENDAR
VERSION:2.0
PRODID:-//Squarespace Inc/Squarespace 6//v6//EN
BEGIN:VEVENT
UID:5dc0d7b0aeb09c7dd201ef2e@squarespace.com
DTSTAMP:20191105T020624Z
DTSTART:20191201T030000Z
DTEND:20191201T050000Z
SUMMARY:Tuggeranong Open Christmas Gathering
GEO:-35.390994;149.062186
LOCATION:Diversity ACT\, 8 Laidlaw Place\, Kambah\, ACT\, 2902\, Australia
END:VEVENT
END:VCALENDAR
