BEGIN:VCALENDAR
VERSION:2.0
PRODID:-//Squarespace Inc/Squarespace 6//v6//EN
BEGIN:VEVENT
UID:5e51fcc79fa7880e2a3d4eb8@squarespace.com
DTSTAMP:20200223T042446Z
DTSTART:20200307T040000Z
DTEND:20200307T050000Z
SUMMARY:"Tearable party" and sustainability meetup
END:VEVENT
END:VCALENDAR
