BEGIN:VCALENDAR
VERSION:2.0
PRODID:-//Squarespace Inc/Squarespace 6//v6//EN
BEGIN:VEVENT
UID:5da3d33edaaa2310a080ac23@squarespace.com
DTSTAMP:20191014T015009Z
DTSTART:20191026T223000Z
DTEND:20191027T003000Z
SUMMARY:Sustainable House Tour
END:VEVENT
END:VCALENDAR
