BEGIN:VCALENDAR
VERSION:2.0
PRODID:-//Squarespace Inc/Squarespace 6//v6//EN
BEGIN:VEVENT
UID:5d8c519715c46a712a1027f1@squarespace.com
DTSTAMP:20190926T055337Z
DTSTART:20190927T000000Z
DTEND:20190927T010000Z
SUMMARY:Slow Food Canberra Morning Book Club
GEO:-35.256405;149.07879
LOCATION:Slow Food Canberra Morning Book Club\, 68 Bandjalong Crescent\, Ar
 anda\, ACT\, 2614\, Australia
END:VEVENT
END:VCALENDAR
