BEGIN:VCALENDAR
VERSION:2.0
PRODID:-//Squarespace Inc/Squarespace 6//v6//EN
BEGIN:VEVENT
UID:5d8c52618157732b1cd67717@squarespace.com
DTSTAMP:20190926T055353Z
DTSTART:20191010T230000Z
DTEND:20191011T000000Z
SUMMARY:Slow Food Canberra Morning Book Club
GEO:-35.256405;149.07879
LOCATION:Slow Food Canberra Morning Book Club\, 68 Bandjalong Crescent\, Ar
 anda\, ACT\, 2614\, Australia
END:VEVENT
END:VCALENDAR
