BEGIN:VCALENDAR
VERSION:2.0
PRODID:-//Squarespace Inc/Squarespace 6//v6//EN
BEGIN:VEVENT
UID:5d8c50670675282db8957364@squarespace.com
DTSTAMP:20190927T044329Z
DTSTART:20191021T080000Z
DTEND:20191021T100000Z
SUMMARY:SEE-Change Woden Local Group Meeting
END:VEVENT
END:VCALENDAR
