BEGIN:VCALENDAR
VERSION:2.0
PRODID:-//Squarespace Inc/Squarespace 6//v6//EN
BEGIN:VEVENT
UID:5d4a374ecefbf2000164894e@squarespace.com
DTSTAMP:20190926T054726Z
DTSTART:20191005T230000Z
DTEND:20191006T040000Z
SUMMARY:Mulligan’s Flat Bush Walk
GEO:-35.164863;149.146275
LOCATION:Mulligan's Flat Woodland Sanctuary (meet at the carpark)\, Amy Ack
 man Street\, Forde\, ACT\, 2914\, Australia
END:VEVENT
END:VCALENDAR
