BEGIN:VCALENDAR
VERSION:2.0
PRODID:-//Squarespace Inc/Squarespace 6//v6//EN
BEGIN:VEVENT
UID:5dc0e2e48e0ace7bf690c4c6@squarespace.com
DTSTAMP:20191105T025246Z
DTSTART:20191116T230000Z
DTEND:20191117T043000Z
SUMMARY:Sustainable House\, Garden and Local Lunch in MORUYA
GEO:-35.919677;150.074526
LOCATION:52 Evans Street\, Moruya\, NSW\, 2537\, Australia
END:VEVENT
END:VCALENDAR
