BEGIN:VCALENDAR
VERSION:2.0
PRODID:-//Squarespace Inc/Squarespace 6//v6//EN
BEGIN:VEVENT
UID:5dccd3d335c15008121cf652@squarespace.com
DTSTAMP:20191114T042502Z
DTSTART:20191123T030000Z
DTEND:20191123T050000Z
SUMMARY:End of year party
GEO:40.720756;-74.000761
LOCATION:David Street\, O'Connor\, ACT\, 2602\, Australia
END:VEVENT
END:VCALENDAR
