BEGIN:VCALENDAR
VERSION:2.0
PRODID:-//Squarespace Inc/Squarespace 6//v6//EN
BEGIN:VEVENT
UID:5d4a375d283b5e00017db128@squarespace.com
DTSTAMP:20190926T054932Z
DTSTART:20190930T080000Z
DTEND:20190930T110000Z
SUMMARY:CoCanberra
GEO:-35.275676;149.125102
LOCATION:The Food Coop Shop\, 3 Kingsley Street\, Canberra\, ACT\, 2601\, A
 ustralia
END:VEVENT
END:VCALENDAR
