BEGIN:VCALENDAR
VERSION:2.0
PRODID:-//Squarespace Inc/Squarespace 6//v6//EN
BEGIN:VEVENT
UID:5d8c516c4c04a40714d41913@squarespace.com
DTSTAMP:20190930T025536Z
DTSTART:20191028T070000Z
DTEND:20191028T100000Z
SUMMARY:CoCanberra
GEO:-35.275676;149.125102
LOCATION:The Food Coop Shop\, 3 Kingsley Street\, Canberra\, ACT\, 2601\, A
 ustralia
END:VEVENT
END:VCALENDAR
