BEGIN:VCALENDAR
VERSION:2.0
PRODID:-//Squarespace Inc/Squarespace 6//v6//EN
BEGIN:VEVENT
UID:5d8c5287eb5f944767451996@squarespace.com
DTSTAMP:20190926T055605Z
DTSTART:20190926T060000Z
DTEND:20190926T070000Z
SUMMARY:Canberra Repair Cafe
GEO:-35.290233;149.118051
LOCATION:The Canberra Environment Centre\, Lennox Crossing Acton Peninsula 
 ACT 2601
END:VEVENT
END:VCALENDAR
