BEGIN:VCALENDAR
VERSION:2.0
PRODID:-//Squarespace Inc/Squarespace 6//v6//EN
BEGIN:VEVENT
UID:5d4a318ecefbf20001645f4e@squarespace.com
DTSTAMP:20190927T023738Z
DTSTART:20190930T230000Z
DTEND:20191001T020000Z
SUMMARY:1st Tuesday at the Wetlands
GEO:-35.318137;149.164246
LOCATION:Wetlands Education Centre\, 2 Dairy Road\, Fyshwick\, ACT\, 2609\, 
 Australia
END:VEVENT
END:VCALENDAR
